BEGIN:VCALENDAR
VERSION:2.0
PRODID:https://timm4.landratsamt-roth.de/
X-PUBLISHED-TTL:P1D
BEGIN:VEVENT
UID:69e750393f802
DTSTART:20260509T060000Z
SEQUENCE:0
TRANSP:OPAQUE
DTEND:20260509T100000Z
URL:https://timm4.landratsamt-roth.de/veranstaltungen/wendelsteiner_bauernm
 arkt-749119-12650875/
LOCATION:Parkplatz am alten Rathaus - Wendelstein
SUMMARY:Wendelsteiner Bauernmarkt
DTSTAMP:20260421T122353Z
END:VEVENT
END:VCALENDAR