BEGIN:VCALENDAR
VERSION:2.0
PRODID:https://timm4.landratsamt-roth.de/
X-PUBLISHED-TTL:P1D
BEGIN:VEVENT
UID:69e7c2877ee9e
DTSTART:20260707T143000Z
SEQUENCE:0
TRANSP:OPAQUE
DTEND:20260707T160000Z
URL:https://timm4.landratsamt-roth.de/veranstaltungen/umgschaut_in_spalt_st
 adtfuehru-666383-12593165
LOCATION:Kornhaus - Spalt
SUMMARY:\"Umg´schaut in Spalt\" Stadtführung
DESCRIPTION:Entdecke die Hopfen- und Bierstadt Spalt
DTSTAMP:20260421T203135Z
END:VEVENT
END:VCALENDAR