BEGIN:VCALENDAR
VERSION:2.0
PRODID:https://timm4.landratsamt-roth.de/
X-PUBLISHED-TTL:P1D
BEGIN:VEVENT
UID:69e551367ef40
DTSTART:20260612T173000Z
SEQUENCE:0
TRANSP:OPAQUE
DTEND:20260612T230000Z
URL:https://timm4.landratsamt-roth.de/veranstaltungen/ue_30_disco-party_roc
 k_the_boa-717695-12666433/
LOCATION:MS Brombachsee Anlegestelle Zweiseenplatz Enderndorf - Spalt
SUMMARY:Ü 30 Disco-Party \"Rock the Boat\"
DESCRIPTION:MS Brombachsee
DTSTAMP:20260420T000334Z
END:VEVENT
END:VCALENDAR