BEGIN:VCALENDAR
VERSION:2.0
PRODID:https://timm4.landratsamt-roth.de/
X-PUBLISHED-TTL:P1D
BEGIN:VEVENT
UID:69ea604a1d2cb
DTSTART:20260607T160000Z
SEQUENCE:0
TRANSP:OPAQUE
DTEND:20260607T190000Z
URL:https://timm4.landratsamt-roth.de/veranstaltungen/theaterauffuehrung_de
 r_fidele-808925-12683439/
LOCATION:Gemeinschaftshalle Röckenhofen - Greding
SUMMARY:Theateraufführung \"Der fidele Strohwitwer\"
DESCRIPTION:Ein Schwank in vier Akten von Centa Schneider
DTSTAMP:20260423T200914Z
END:VEVENT
END:VCALENDAR