BEGIN:VCALENDAR
VERSION:2.0
PRODID:https://timm4.landratsamt-roth.de/
X-PUBLISHED-TTL:P1D
BEGIN:VEVENT
UID:69e9f7fcc090c
DTSTART:20260626T190000Z
SEQUENCE:0
TRANSP:OPAQUE
DTEND:20260626T210000Z
URL:https://timm4.landratsamt-roth.de/veranstaltungen/soire_im_caf_open_air
 -807331-12682041/
LOCATION:Kulturfabrik - Roth
SUMMARY:Soirée im Café Open Air
DESCRIPTION:Gunther Rissmann & Band
DTSTAMP:20260423T124412Z
END:VEVENT
END:VCALENDAR