BEGIN:VCALENDAR
VERSION:2.0
PRODID:https://timm4.landratsamt-roth.de/
X-PUBLISHED-TTL:P1D
BEGIN:VEVENT
UID:69eaebd46d2ee
DTSTART:20261111T070000Z
SEQUENCE:0
TRANSP:OPAQUE
DTEND:20261111T120000Z
URL:https://timm4.landratsamt-roth.de/veranstaltungen/rother_wochenmarkt-73
 7727-12645603/
LOCATION:Marktplatz - Roth
SUMMARY:Rother Wochenmarkt
DTSTAMP:20260424T060436Z
END:VEVENT
END:VCALENDAR