BEGIN:VCALENDAR
VERSION:2.0
PRODID:https://timm4.landratsamt-roth.de/
X-PUBLISHED-TTL:P1D
BEGIN:VEVENT
UID:69e7dcab08ceb
DTSTART:20261104T070000Z
SEQUENCE:0
TRANSP:OPAQUE
DTEND:20261104T120000Z
URL:https://timm4.landratsamt-roth.de/veranstaltungen/rother_wochenmarkt-73
 7727-12645601
LOCATION:Marktplatz - Roth
SUMMARY:Rother Wochenmarkt
DTSTAMP:20260421T222307Z
END:VEVENT
END:VCALENDAR