BEGIN:VCALENDAR
VERSION:2.0
PRODID:https://timm4.landratsamt-roth.de/
X-PUBLISHED-TTL:P1D
BEGIN:VEVENT
UID:69eaa85357931
DTSTART:20261014T060000Z
SEQUENCE:0
TRANSP:OPAQUE
DTEND:20261014T110000Z
URL:https://timm4.landratsamt-roth.de/veranstaltungen/rother_wochenmarkt-73
 7727-12645595
LOCATION:Marktplatz - Roth
SUMMARY:Rother Wochenmarkt
DTSTAMP:20260424T011635Z
END:VEVENT
END:VCALENDAR