BEGIN:VCALENDAR
VERSION:2.0
PRODID:https://timm4.landratsamt-roth.de/
X-PUBLISHED-TTL:P1D
BEGIN:VEVENT
UID:69eb3d7b62137
DTSTART:20260923T060000Z
SEQUENCE:0
TRANSP:OPAQUE
DTEND:20260923T110000Z
URL:https://timm4.landratsamt-roth.de/veranstaltungen/rother_wochenmarkt-73
 7727-12645589
LOCATION:Marktplatz - Roth
SUMMARY:Rother Wochenmarkt
DTSTAMP:20260424T115259Z
END:VEVENT
END:VCALENDAR