BEGIN:VCALENDAR
VERSION:2.0
PRODID:https://timm4.landratsamt-roth.de/
X-PUBLISHED-TTL:P1D
BEGIN:VEVENT
UID:69ecafdddbde4
DTSTART:20260729T060000Z
SEQUENCE:0
TRANSP:OPAQUE
DTEND:20260729T110000Z
URL:https://timm4.landratsamt-roth.de/veranstaltungen/rother_wochenmarkt-73
 7727-12645573
LOCATION:Marktplatz - Roth
SUMMARY:Rother Wochenmarkt
DTSTAMP:20260425T141317Z
END:VEVENT
END:VCALENDAR