BEGIN:VCALENDAR
VERSION:2.0
PRODID:https://timm4.landratsamt-roth.de/
X-PUBLISHED-TTL:P1D
BEGIN:VEVENT
UID:69eb15f29fc97
DTSTART:20260527T060000Z
SEQUENCE:0
TRANSP:OPAQUE
DTEND:20260527T110000Z
URL:https://timm4.landratsamt-roth.de/veranstaltungen/rother_wochenmarkt-73
 7727-12645555/
LOCATION:Marktplatz - Roth
SUMMARY:Rother Wochenmarkt
DTSTAMP:20260424T090418Z
END:VEVENT
END:VCALENDAR