BEGIN:VCALENDAR
VERSION:2.0
PRODID:https://timm4.landratsamt-roth.de/
X-PUBLISHED-TTL:P1D
BEGIN:VEVENT
UID:69eb3d7decf5f
DTSTART:20260506T060000Z
SEQUENCE:0
TRANSP:OPAQUE
DTEND:20260506T110000Z
URL:https://timm4.landratsamt-roth.de/veranstaltungen/rother_wochenmarkt-73
 7727-12645549
LOCATION:Marktplatz - Roth
SUMMARY:Rother Wochenmarkt
DTSTAMP:20260424T115301Z
END:VEVENT
END:VCALENDAR