BEGIN:VCALENDAR
VERSION:2.0
PRODID:https://timm4.landratsamt-roth.de/
X-PUBLISHED-TTL:P1D
BEGIN:VEVENT
UID:69e8b1c60216e
DTSTART:20260805T180000Z
SEQUENCE:0
TRANSP:OPAQUE
DTEND:20260805T180000Z
URL:https://timm4.landratsamt-roth.de/veranstaltungen/rother_schlosshofspie
 le-677307-12599963/
LOCATION:Schlosshof von Schloss Ratibor - Roth
SUMMARY:Rother Schlosshofspiele
DESCRIPTION:Der Sommernachtstraum
DTSTAMP:20260422T133222Z
END:VEVENT
END:VCALENDAR