BEGIN:VCALENDAR
VERSION:2.0
PRODID:https://timm4.landratsamt-roth.de/
X-PUBLISHED-TTL:P1D
BEGIN:VEVENT
UID:69eb2e56bf8ad
DTSTART:20260731T180000Z
SEQUENCE:0
TRANSP:OPAQUE
DTEND:20260731T180000Z
URL:https://timm4.landratsamt-roth.de/veranstaltungen/rother_schlosshofspie
 le-677307-12599957/
LOCATION:Schlosshof von Schloss Ratibor - Roth
SUMMARY:Rother Schlosshofspiele
DESCRIPTION:Der Sommernachtstraum
DTSTAMP:20260424T104822Z
END:VEVENT
END:VCALENDAR