BEGIN:VCALENDAR
VERSION:2.0
PRODID:https://timm4.landratsamt-roth.de/
X-PUBLISHED-TTL:P1D
BEGIN:VEVENT
UID:69e84c16c0579
DTSTART:20260722T180000Z
SEQUENCE:0
TRANSP:OPAQUE
DTEND:20260722T180000Z
URL:https://timm4.landratsamt-roth.de/veranstaltungen/rother_schlosshofspie
 le-677307-12599947/
LOCATION:Schlosshof von Schloss Ratibor - Roth
SUMMARY:Rother Schlosshofspiele
DESCRIPTION:Der Sommernachtstraum
DTSTAMP:20260422T061830Z
END:VEVENT
END:VCALENDAR