BEGIN:VCALENDAR
VERSION:2.0
PRODID:https://timm4.landratsamt-roth.de/
X-PUBLISHED-TTL:P1D
BEGIN:VEVENT
UID:69e786df285b1
DTSTART:20260508T180000Z
SEQUENCE:0
TRANSP:OPAQUE
DTEND:20260508T200000Z
URL:https://timm4.landratsamt-roth.de/veranstaltungen/rother_percussionfest
 ival-807337-12682051/
LOCATION:Kulturfabrik - Roth
SUMMARY:Rother Percussionfestival
DESCRIPTION:Eröffnungskonzert
DTSTAMP:20260421T161703Z
END:VEVENT
END:VCALENDAR