BEGIN:VCALENDAR
VERSION:2.0
PRODID:https://timm4.landratsamt-roth.de/
X-PUBLISHED-TTL:P1D
BEGIN:VEVENT
UID:69e7b2abe8d7e
DTSTART:20261219T070000Z
SEQUENCE:0
TRANSP:OPAQUE
DTEND:20261219T110000Z
URL:https://timm4.landratsamt-roth.de/veranstaltungen/rother_bauernmarkt-73
 7729-12645513
LOCATION:Marktplatz - Roth
SUMMARY:Rother Bauernmarkt
DTSTAMP:20260421T192355Z
END:VEVENT
END:VCALENDAR