BEGIN:VCALENDAR
VERSION:2.0
PRODID:https://timm4.landratsamt-roth.de/
X-PUBLISHED-TTL:P1D
BEGIN:VEVENT
UID:69e9708deb342
DTSTART:20261017T060000Z
SEQUENCE:0
TRANSP:OPAQUE
DTEND:20261017T100000Z
URL:https://timm4.landratsamt-roth.de/veranstaltungen/rother_bauernmarkt-73
 7729-12645495/
LOCATION:Marktplatz - Roth
SUMMARY:Rother Bauernmarkt
DTSTAMP:20260423T030621Z
END:VEVENT
END:VCALENDAR