BEGIN:VCALENDAR
VERSION:2.0
PRODID:https://timm4.landratsamt-roth.de/
X-PUBLISHED-TTL:P1D
BEGIN:VEVENT
UID:69e750395a7c6
DTSTART:20261003T060000Z
SEQUENCE:0
TRANSP:OPAQUE
DTEND:20261003T100000Z
URL:https://timm4.landratsamt-roth.de/veranstaltungen/rother_bauernmarkt-73
 7729-12645491/
LOCATION:Marktplatz - Roth
SUMMARY:Rother Bauernmarkt
DTSTAMP:20260421T122353Z
END:VEVENT
END:VCALENDAR