BEGIN:VCALENDAR
VERSION:2.0
PRODID:https://timm4.landratsamt-roth.de/
X-PUBLISHED-TTL:P1D
BEGIN:VEVENT
UID:69e7aed457843
DTSTART:20260808T060000Z
SEQUENCE:0
TRANSP:OPAQUE
DTEND:20260808T100000Z
URL:https://timm4.landratsamt-roth.de/veranstaltungen/rother_bauernmarkt-73
 7729-12645475
LOCATION:Marktplatz - Roth
SUMMARY:Rother Bauernmarkt
DTSTAMP:20260421T190732Z
END:VEVENT
END:VCALENDAR