BEGIN:VCALENDAR
VERSION:2.0
PRODID:https://timm4.landratsamt-roth.de/
X-PUBLISHED-TTL:P1D
BEGIN:VEVENT
UID:69e8445584f76
DTSTART:20260620T060000Z
SEQUENCE:0
TRANSP:OPAQUE
DTEND:20260620T100000Z
URL:https://timm4.landratsamt-roth.de/veranstaltungen/rother_bauernmarkt-73
 7729-12645461/
LOCATION:Marktplatz - Roth
SUMMARY:Rother Bauernmarkt
DTSTAMP:20260422T054525Z
END:VEVENT
END:VCALENDAR