BEGIN:VCALENDAR
VERSION:2.0
PRODID:https://timm4.landratsamt-roth.de/
X-PUBLISHED-TTL:P1D
BEGIN:VEVENT
UID:69e845965e69b
DTSTART:20260523T060000Z
SEQUENCE:0
TRANSP:OPAQUE
DTEND:20260523T100000Z
URL:https://timm4.landratsamt-roth.de/veranstaltungen/rother_bauernmarkt-73
 7729-12645453/
LOCATION:Marktplatz - Roth
SUMMARY:Rother Bauernmarkt
DTSTAMP:20260422T055046Z
END:VEVENT
END:VCALENDAR