BEGIN:VCALENDAR
VERSION:2.0
PRODID:https://timm4.landratsamt-roth.de/
X-PUBLISHED-TTL:P1D
BEGIN:VEVENT
UID:69e8458bb2be1
DTSTART:20260516T060000Z
SEQUENCE:0
TRANSP:OPAQUE
DTEND:20260516T100000Z
URL:https://timm4.landratsamt-roth.de/veranstaltungen/rother_bauernmarkt-73
 7729-12645451/
LOCATION:Marktplatz - Roth
SUMMARY:Rother Bauernmarkt
DTSTAMP:20260422T055035Z
END:VEVENT
END:VCALENDAR