BEGIN:VCALENDAR
VERSION:2.0
PRODID:https://timm4.landratsamt-roth.de/
X-PUBLISHED-TTL:P1D
BEGIN:VEVENT
UID:69e9f7fc8ee4b
DTSTART:20261127T190000Z
SEQUENCE:0
TRANSP:OPAQUE
DTEND:20261127T190000Z
URL:https://timm4.landratsamt-roth.de/veranstaltungen/ralf_winkelbeiner-763
 713-12661933/
LOCATION:Kulturfabrik - Roth
SUMMARY:Ralf Winkelbeiner
DESCRIPTION:Happy
DTSTAMP:20260423T124412Z
END:VEVENT
END:VCALENDAR