BEGIN:VCALENDAR
VERSION:2.0
PRODID:https://timm4.landratsamt-roth.de/
X-PUBLISHED-TTL:P1D
BEGIN:VEVENT
UID:69e7ee31200d9
DTSTART:20261105T173000Z
SEQUENCE:0
TRANSP:OPAQUE
DTEND:20261105T190000Z
URL:https://timm4.landratsamt-roth.de/veranstaltungen/probierstund-423519-1
 2593301
LOCATION:Erlebniswelt HopfenBierGut & Tourist-Information im Kornhaus der S
 tadt Spalt - Spalt
SUMMARY:ProBierStund´
DESCRIPTION:Erlebniswelt HopfenBierGut
DTSTAMP:20260421T233753Z
END:VEVENT
END:VCALENDAR