BEGIN:VCALENDAR
VERSION:2.0
PRODID:https://timm4.landratsamt-roth.de/
X-PUBLISHED-TTL:P1D
BEGIN:VEVENT
UID:69e7bdf158135
DTSTART:20260507T163000Z
SEQUENCE:0
TRANSP:OPAQUE
DTEND:20260507T180000Z
URL:https://timm4.landratsamt-roth.de/veranstaltungen/probierstund-423519-1
 2593289
LOCATION:Erlebniswelt HopfenBierGut & Tourist-Information im Kornhaus der S
 tadt Spalt - Spalt
SUMMARY:ProBierStund´
DESCRIPTION:Erlebniswelt HopfenBierGut
DTSTAMP:20260421T201201Z
END:VEVENT
END:VCALENDAR