BEGIN:VCALENDAR
VERSION:2.0
PRODID:https://timm4.landratsamt-roth.de/
X-PUBLISHED-TTL:P1D
BEGIN:VEVENT
UID:69e779bf480a2
DTSTART:20260606T173000Z
SEQUENCE:0
TRANSP:OPAQUE
DTEND:20260606T173000Z
URL:https://timm4.landratsamt-roth.de/veranstaltungen/picknick-konzert_2026
 -806557-12681795/
LOCATION:Bürgergarten - Spalt
SUMMARY:Picknick-Konzert 2026
DESCRIPTION:mit der Band STARCK & Friends
DTSTAMP:20260421T152103Z
END:VEVENT
END:VCALENDAR