BEGIN:VCALENDAR
VERSION:2.0
PRODID:https://timm4.landratsamt-roth.de/
X-PUBLISHED-TTL:P1D
BEGIN:VEVENT
UID:69e844f05d8b7
DTSTART:20270307T090000Z
SEQUENCE:0
TRANSP:OPAQUE
DTEND:20270307T170000Z
URL:https://timm4.landratsamt-roth.de/veranstaltungen/ostermarkt-396807-123
 59163/
LOCATION:Marktplatz Hilpoltstein - Hilpoltstein
SUMMARY:Ostermarkt
DESCRIPTION:mit verkaufsoffenem Sonntag und Autofrühling
DTSTAMP:20260422T054800Z
END:VEVENT
END:VCALENDAR