BEGIN:VCALENDAR
VERSION:2.0
PRODID:https://timm4.landratsamt-roth.de/
X-PUBLISHED-TTL:P1D
BEGIN:VEVENT
UID:69e7ae86973c6
DTSTART:20261004T110000Z
SEQUENCE:0
TRANSP:OPAQUE
DTEND:20261004T150000Z
URL:https://timm4.landratsamt-roth.de/veranstaltungen/oeffnung_dorfmuseum_i
 n_stauf-741713-12644675/
LOCATION:Michael-Kirschner-Kulturmuseum - Thalmässing
SUMMARY:Öffnung Dorfmuseum in Stauf
DESCRIPTION:Michael-Kirschner-Kulturmuseum
DTSTAMP:20260421T190614Z
END:VEVENT
END:VCALENDAR