BEGIN:VCALENDAR
VERSION:2.0
PRODID:https://timm4.landratsamt-roth.de/
X-PUBLISHED-TTL:P1D
BEGIN:VEVENT
UID:69ea80e7c92dc
DTSTART:20261206T100000Z
SEQUENCE:0
TRANSP:OPAQUE
DTEND:20261206T113000Z
URL:https://timm4.landratsamt-roth.de/veranstaltungen/oeffentliche_museumsf
 uehrung-h-572013-12593419
LOCATION:Erlebniswelt HopfenBierGut - Spalt
SUMMARY:Öffentliche Museumsführung - Hopfen in aller Welt
DESCRIPTION:Erlebniswelt HopfenBierGut
DTSTAMP:20260423T222823Z
END:VEVENT
END:VCALENDAR