BEGIN:VCALENDAR
VERSION:2.0
PRODID:https://timm4.landratsamt-roth.de/
X-PUBLISHED-TTL:P1D
BEGIN:VEVENT
UID:69eada38e50a1
DTSTART:20260919T090000Z
SEQUENCE:0
TRANSP:OPAQUE
DTEND:20260919T110000Z
URL:https://timm4.landratsamt-roth.de/veranstaltungen/oeffentliche_brauerei
 fuehrung-553739-12593663/
LOCATION:Stadtbrauerei Spalt - Spalt
SUMMARY:Öffentliche Brauereiführung
DESCRIPTION:in der Stadtbrauerei Spalt mit BierProbe
DTSTAMP:20260424T044928Z
END:VEVENT
END:VCALENDAR