BEGIN:VCALENDAR
VERSION:2.0
PRODID:https://timm4.landratsamt-roth.de/
X-PUBLISHED-TTL:P1D
BEGIN:VEVENT
UID:69e9f7fca7dc0
DTSTART:20261120T190000Z
SEQUENCE:0
TRANSP:OPAQUE
DTEND:20261120T190000Z
URL:https://timm4.landratsamt-roth.de/veranstaltungen/michael_altinger-7637
 09-12661929/
LOCATION:Kulturfabrik - Roth
SUMMARY:Michael Altinger
DESCRIPTION:Die letzte Tasse Testosteron
DTSTAMP:20260423T124412Z
END:VEVENT
END:VCALENDAR