BEGIN:VCALENDAR
VERSION:2.0
PRODID:https://timm4.landratsamt-roth.de/
X-PUBLISHED-TTL:P1D
BEGIN:VEVENT
UID:69eb6a4917f17
DTSTART:20260528T140000Z
SEQUENCE:0
TRANSP:OPAQUE
DTEND:20260528T170000Z
URL:https://timm4.landratsamt-roth.de/veranstaltungen/malen_im_atelier_50-2
 58705-12614897/
LOCATION:Atelier 50\, KUNST.TREFF HIP - Hilpoltstein
SUMMARY:Malen im Atelier 50
DESCRIPTION:mit dem KUNST.TREFF
DTSTAMP:20260424T150409Z
END:VEVENT
END:VCALENDAR