BEGIN:VCALENDAR
VERSION:2.0
PRODID:https://timm4.landratsamt-roth.de/
X-PUBLISHED-TTL:P1D
BEGIN:VEVENT
UID:69e786df82a5f
DTSTART:20260502T160000Z
SEQUENCE:0
TRANSP:OPAQUE
DTEND:20260502T160000Z
URL:https://timm4.landratsamt-roth.de/veranstaltungen/maibaumfest-806531-12
 681765/
LOCATION:Freiwillige Feuerwehr Grafenberg - Greding
SUMMARY:Maibaumfest
DTSTAMP:20260421T161703Z
END:VEVENT
END:VCALENDAR