BEGIN:VCALENDAR
VERSION:2.0
PRODID:https://timm4.landratsamt-roth.de/
X-PUBLISHED-TTL:P1D
BEGIN:VEVENT
UID:69ecafe2841ca
DTSTART:20260701T160000Z
SEQUENCE:0
TRANSP:OPAQUE
DTEND:20260701T160000Z
URL:https://timm4.landratsamt-roth.de/veranstaltungen/live_musik_mittwoch-7
 03919-12618675/
LOCATION:Sand & Sofa - die Lounge am Igelsbachsee - Spalt
SUMMARY:Live Musik Mittwoch
DESCRIPTION:Sand&Sofa - die Lounge am Igelsbachsee
DTSTAMP:20260425T141322Z
END:VEVENT
END:VCALENDAR