BEGIN:VCALENDAR
VERSION:2.0
PRODID:https://timm4.landratsamt-roth.de/
X-PUBLISHED-TTL:P1D
BEGIN:VEVENT
UID:69e7d7c917964
DTSTART:20260613T180000Z
SEQUENCE:0
TRANSP:OPAQUE
DTEND:20260613T180000Z
URL:https://timm4.landratsamt-roth.de/veranstaltungen/live_im_bunker-magic_
 ed-663101-12588077/
LOCATION:\"Bunker\" Thalmässing - Thalmässing
SUMMARY:Live im Bunker - Magic ED
DTSTAMP:20260421T220217Z
END:VEVENT
END:VCALENDAR