BEGIN:VCALENDAR
VERSION:2.0
PRODID:https://timm4.landratsamt-roth.de/
X-PUBLISHED-TTL:P1D
BEGIN:VEVENT
UID:69ed7653c3cea
DTSTART:20261118T123000Z
SEQUENCE:0
TRANSP:OPAQUE
DTEND:20261118T140000Z
URL:https://timm4.landratsamt-roth.de/veranstaltungen/lebensmittelausgabe_d
 er_tafel-409073-12614843/
LOCATION:AWO Soziales Kompetenz-Zentrum Hilpoltstein - Hilpoltstein
SUMMARY:Lebensmittelausgabe der Tafel Roth - Ausgabestelle Hilpoltstein
DTSTAMP:20260426T042003Z
END:VEVENT
END:VCALENDAR