BEGIN:VCALENDAR
VERSION:2.0
PRODID:https://timm4.landratsamt-roth.de/
X-PUBLISHED-TTL:P1D
BEGIN:VEVENT
UID:69ec9b9d4f1f3
DTSTART:20260506T113000Z
SEQUENCE:0
TRANSP:OPAQUE
DTEND:20260506T130000Z
URL:https://timm4.landratsamt-roth.de/veranstaltungen/lebensmittelausgabe_d
 er_tafel-409073-12614787/
LOCATION:AWO Soziales Kompetenz-Zentrum Hilpoltstein - Hilpoltstein
SUMMARY:Lebensmittelausgabe der Tafel Roth - Ausgabestelle Hilpoltstein
DTSTAMP:20260425T124653Z
END:VEVENT
END:VCALENDAR