BEGIN:VCALENDAR
VERSION:2.0
PRODID:https://timm4.landratsamt-roth.de/
X-PUBLISHED-TTL:P1D
BEGIN:VEVENT
UID:69ed8e088a3e8
DTSTART:20261013T073000Z
SEQUENCE:0
TRANSP:OPAQUE
DTEND:20261013T090000Z
URL:https://timm4.landratsamt-roth.de/veranstaltungen/krabbelgruppe-570091-
 12527377/
LOCATION:Evangelisches Gemeindehaus Hilpoltstein - Hilpoltstein
SUMMARY:Krabbelgruppe
DESCRIPTION:Eltern-Kind-Gruppe
DTSTAMP:20260426T060112Z
END:VEVENT
END:VCALENDAR