BEGIN:VCALENDAR
VERSION:2.0
PRODID:https://timm4.landratsamt-roth.de/
X-PUBLISHED-TTL:P1D
BEGIN:VEVENT
UID:69ec38e3c0539
DTSTART:20260714T073000Z
SEQUENCE:0
TRANSP:OPAQUE
DTEND:20260714T090000Z
URL:https://timm4.landratsamt-roth.de/veranstaltungen/krabbelgruppe-570091-
 12527351/
LOCATION:Evangelisches Gemeindehaus Hilpoltstein - Hilpoltstein
SUMMARY:Krabbelgruppe
DESCRIPTION:Eltern-Kind-Gruppe
DTSTAMP:20260425T054539Z
END:VEVENT
END:VCALENDAR