BEGIN:VCALENDAR
VERSION:2.0
PRODID:https://timm4.landratsamt-roth.de/
X-PUBLISHED-TTL:P1D
BEGIN:VEVENT
UID:69ea98d5b41fe
DTSTART:20260909T120000Z
SEQUENCE:0
TRANSP:OPAQUE
DTEND:20260909T133000Z
URL:https://timm4.landratsamt-roth.de/veranstaltungen/kombi_schlossstadtfue
 hrung-655835-12579307/
LOCATION:Schloss Ratibor - Roth
SUMMARY:Kombi Schloss/Stadtführung
DTSTAMP:20260424T001029Z
END:VEVENT
END:VCALENDAR