BEGIN:VCALENDAR
VERSION:2.0
PRODID:https://timm4.landratsamt-roth.de/
X-PUBLISHED-TTL:P1D
BEGIN:VEVENT
UID:69e7a996cd9c7
DTSTART:20260722T120000Z
SEQUENCE:0
TRANSP:OPAQUE
DTEND:20260722T133000Z
URL:https://timm4.landratsamt-roth.de/veranstaltungen/kombi_schlossstadtfue
 hrung-655835-12579293/
LOCATION:Schloss Ratibor - Roth
SUMMARY:Kombi Schloss/Stadtführung
DTSTAMP:20260421T184510Z
END:VEVENT
END:VCALENDAR