BEGIN:VCALENDAR
VERSION:2.0
PRODID:https://timm4.landratsamt-roth.de/
X-PUBLISHED-TTL:P1D
BEGIN:VEVENT
UID:69ea97a9b54e4
DTSTART:20260610T120000Z
SEQUENCE:0
TRANSP:OPAQUE
DTEND:20260610T133000Z
URL:https://timm4.landratsamt-roth.de/veranstaltungen/kombi_schlossstadtfue
 hrung-655835-12579281/
LOCATION:Schloss Ratibor - Roth
SUMMARY:Kombi Schloss/Stadtführung
DTSTAMP:20260424T000529Z
END:VEVENT
END:VCALENDAR