BEGIN:VCALENDAR
VERSION:2.0
PRODID:https://timm4.landratsamt-roth.de/
X-PUBLISHED-TTL:P1D
BEGIN:VEVENT
UID:69e9f7fc2f4f1
DTSTART:20260622T071500Z
SEQUENCE:0
TRANSP:OPAQUE
DTEND:20260622T100000Z
URL:https://timm4.landratsamt-roth.de/veranstaltungen/kindertheaterfestival
 -807327-12682037/
LOCATION:Kulturfabrik - Roth
SUMMARY:Kindertheaterfestival
DESCRIPTION:30. Kindertheaterwoche in der Kulturfabrik
DTSTAMP:20260423T124412Z
END:VEVENT
BEGIN:VEVENT
UID:69e9f7fc2f52c
DTSTART:20260623T071500Z
SEQUENCE:0
TRANSP:OPAQUE
DTEND:20260623T100000Z
URL:https://timm4.landratsamt-roth.de/veranstaltungen/kindertheaterfestival
 -807327-12682037/
LOCATION:Kulturfabrik - Roth
SUMMARY:Kindertheaterfestival
DESCRIPTION:30. Kindertheaterwoche in der Kulturfabrik
DTSTAMP:20260423T124412Z
END:VEVENT
BEGIN:VEVENT
UID:69e9f7fc2f53c
DTSTART:20260624T071500Z
SEQUENCE:0
TRANSP:OPAQUE
DTEND:20260624T100000Z
URL:https://timm4.landratsamt-roth.de/veranstaltungen/kindertheaterfestival
 -807327-12682037/
LOCATION:Kulturfabrik - Roth
SUMMARY:Kindertheaterfestival
DESCRIPTION:30. Kindertheaterwoche in der Kulturfabrik
DTSTAMP:20260423T124412Z
END:VEVENT
BEGIN:VEVENT
UID:69e9f7fc2f549
DTSTART:20260625T071500Z
SEQUENCE:0
TRANSP:OPAQUE
DTEND:20260625T100000Z
URL:https://timm4.landratsamt-roth.de/veranstaltungen/kindertheaterfestival
 -807327-12682037/
LOCATION:Kulturfabrik - Roth
SUMMARY:Kindertheaterfestival
DESCRIPTION:30. Kindertheaterwoche in der Kulturfabrik
DTSTAMP:20260423T124412Z
END:VEVENT
END:VCALENDAR