BEGIN:VCALENDAR
VERSION:2.0
PRODID:https://timm4.landratsamt-roth.de/
X-PUBLISHED-TTL:P1D
BEGIN:VEVENT
UID:69e73adddbdf8
DTSTART:20260717T063000Z
SEQUENCE:0
TRANSP:OPAQUE
DTEND:20260717T103000Z
URL:https://timm4.landratsamt-roth.de/veranstaltungen/hilpoltsteiner_bauern
 markt-407087-12614657/
LOCATION:Marktplatz Hilpoltstein - Hilpoltstein
SUMMARY:Hilpoltsteiner Bauernmarkt
DESCRIPTION:Ganzjährig Frische und Qualität aus dem Hilpoltsteiner Land
DTSTAMP:20260421T105245Z
END:VEVENT
END:VCALENDAR