BEGIN:VCALENDAR
VERSION:2.0
PRODID:https://timm4.landratsamt-roth.de/
X-PUBLISHED-TTL:P1D
BEGIN:VEVENT
UID:69eb15fb2d9b8
DTSTART:20260627T080000Z
SEQUENCE:0
TRANSP:OPAQUE
DTEND:20260627T110000Z
URL:https://timm4.landratsamt-roth.de/veranstaltungen/hier_spielt_die_musik
 -ein_musi-674337-12598915/
LOCATION:Kornhaus - Spalt
SUMMARY:Hier spielt die Musik - ein musikalischer Spaziergang
DESCRIPTION:durch die Altstadt von Spalt
DTSTAMP:20260424T090427Z
END:VEVENT
END:VCALENDAR