BEGIN:VCALENDAR
VERSION:2.0
PRODID:https://timm4.landratsamt-roth.de/
X-PUBLISHED-TTL:P1D
BEGIN:VEVENT
UID:69e9f7fc5f66e
DTSTART:20261205T190000Z
SEQUENCE:0
TRANSP:OPAQUE
DTEND:20261205T190000Z
URL:https://timm4.landratsamt-roth.de/veranstaltungen/helmfried_v_luetticha
 u-782861-12670537/
LOCATION:Kulturfabrik - Roth
SUMMARY:Helmfried v. Lüttichau
DESCRIPTION:Weil's raus muss...
DTSTAMP:20260423T124412Z
END:VEVENT
END:VCALENDAR