BEGIN:VCALENDAR
VERSION:2.0
PRODID:https://timm4.landratsamt-roth.de/
X-PUBLISHED-TTL:P1D
BEGIN:VEVENT
UID:69ed7a5398bbe
DTSTART:20261007T063000Z
SEQUENCE:0
TRANSP:OPAQUE
DTEND:20261007T103000Z
URL:https://timm4.landratsamt-roth.de/veranstaltungen/heidecker_bauernmarkt
 -399127-12621735/
LOCATION:Marktplatz - Heideck
SUMMARY:Heidecker Bauernmarkt
DTSTAMP:20260426T043707Z
END:VEVENT
END:VCALENDAR