BEGIN:VCALENDAR
VERSION:2.0
PRODID:https://timm4.landratsamt-roth.de/
X-PUBLISHED-TTL:P1D
BEGIN:VEVENT
UID:69ec9b8100445
DTSTART:20260805T063000Z
SEQUENCE:0
TRANSP:OPAQUE
DTEND:20260805T103000Z
URL:https://timm4.landratsamt-roth.de/veranstaltungen/heidecker_bauernmarkt
 -399127-12621717/
LOCATION:Marktplatz - Heideck
SUMMARY:Heidecker Bauernmarkt
DTSTAMP:20260425T124625Z
END:VEVENT
END:VCALENDAR