BEGIN:VCALENDAR
VERSION:2.0
PRODID:https://timm4.landratsamt-roth.de/
X-PUBLISHED-TTL:P1D
BEGIN:VEVENT
UID:69ed221b6430b
DTSTART:20260506T063000Z
SEQUENCE:0
TRANSP:OPAQUE
DTEND:20260506T103000Z
URL:https://timm4.landratsamt-roth.de/veranstaltungen/heidecker_bauernmarkt
 -399127-12621691/
LOCATION:Marktplatz - Heideck
SUMMARY:Heidecker Bauernmarkt
DTSTAMP:20260425T222043Z
END:VEVENT
END:VCALENDAR